BEGIN:VCALENDAR
VERSION:2.0
PRODID:-//Museo Archeologico Nazionale di Venezia - ECPv6.0.6.2//NONSGML v1.0//EN
CALSCALE:GREGORIAN
METHOD:PUBLISH
X-WR-CALNAME:Museo Archeologico Nazionale di Venezia
X-ORIGINAL-URL:https://archeologicovenezia.cultura.gov.it
X-WR-CALDESC:Events for Museo Archeologico Nazionale di Venezia
REFRESH-INTERVAL;VALUE=DURATION:PT1H
X-Robots-Tag:noindex
X-PUBLISHED-TTL:PT1H
BEGIN:VTIMEZONE
TZID:Europe/Rome
BEGIN:DAYLIGHT
TZOFFSETFROM:+0100
TZOFFSETTO:+0200
TZNAME:CEST
DTSTART:20250330T010000
END:DAYLIGHT
BEGIN:STANDARD
TZOFFSETFROM:+0200
TZOFFSETTO:+0100
TZNAME:CET
DTSTART:20251026T010000
END:STANDARD
END:VTIMEZONE
BEGIN:VEVENT
DTSTART;TZID=Europe/Rome:20250706T100000
DTEND;TZID=Europe/Rome:20250706T180000
DTSTAMP:20260425T165935
CREATED:20250703T121415Z
LAST-MODIFIED:20250703T121415Z
UID:6002-1751796000-1751824800@archeologicovenezia.cultura.gov.it
SUMMARY:DOMENICA AL MUSEO
DESCRIPTION:Torna #DomenicaalMuseo\, iniziativa del Ministero della Cultura che prevede l’accesso gratuito ogni prima domenica del mese a monumenti\, musei\, gallerie\, scavi archeologici\, parchi e giardini monumentali dello Stato. Domenica 6 luglio 2025\, tutti potranno accedere gratuitamente al Museo Archeologico Nazionale e alle Sale Moumentali della Biblioteca Nazionale Marciana (orario: 10:00 – 18:00\, ultimo ingresso ore 17:00). Vi ricordiamo che l’accesso al museo è consentito fino a un’ora prima dell’orario di chiusura e le operazioni di deflusso del pubblico iniziano 30 minuti prima della chiusura.\nNon è prevista la prenotazione.\nIl pubblico che vorrà visitare le due sedi nazionali potrà accedervi dall’ingresso storico del Museo archeologico in piazzetta San Marco\, 17 n. 17\nIl Museo Correr non aderisce all’iniziativa e rimane a pagamento. Per motivi di sicurezza non saranno ammessi visitatori con zaini\, trolley e borse ingombranti. I visitatori potranno scegliere di depositarli in biglietteria\, sollevando da ogni responsabilità il personale. Nelle sale saranno ammessi solo zaini e borse di piccole dimensioni.
URL:https://archeologicovenezia.cultura.gov.it/event/domenica-al-museo-14/
LOCATION:Museo Archeologico Nazionale di  Venezia\, Piazza San Marco 17\, Venezia Italia\, Italia
CATEGORIES:Apertura gratuita
ATTACH;FMTTYPE=image/png:https://archeologicovenezia.cultura.gov.it/wp-content/uploads/2025/07/domenica_lugli.png
ORGANIZER;CN="Museo%20Archeologico%20Nazionale%20di%20%20Venezia":MAILTO:info.archeologicovenezia@cultura.gov.it
END:VEVENT
END:VCALENDAR