BEGIN:VCALENDAR
VERSION:2.0
PRODID:-//Museo Archeologico Nazionale di Venezia - ECPv6.0.6.2//NONSGML v1.0//EN
CALSCALE:GREGORIAN
METHOD:PUBLISH
X-WR-CALNAME:Museo Archeologico Nazionale di Venezia
X-ORIGINAL-URL:https://archeologicovenezia.cultura.gov.it
X-WR-CALDESC:Events for Museo Archeologico Nazionale di Venezia
REFRESH-INTERVAL;VALUE=DURATION:PT1H
X-Robots-Tag:noindex
X-PUBLISHED-TTL:PT1H
BEGIN:VTIMEZONE
TZID:Europe/Rome
BEGIN:DAYLIGHT
TZOFFSETFROM:+0100
TZOFFSETTO:+0200
TZNAME:CEST
DTSTART:20250330T010000
END:DAYLIGHT
BEGIN:STANDARD
TZOFFSETFROM:+0200
TZOFFSETTO:+0100
TZNAME:CET
DTSTART:20251026T010000
END:STANDARD
END:VTIMEZONE
BEGIN:VEVENT
DTSTART;TZID=Europe/Rome:20251030T100000
DTEND;TZID=Europe/Rome:20251130T170000
DTSTAMP:20260420T164103
CREATED:20251016T084828Z
LAST-MODIFIED:20251016T084828Z
UID:6241-1761818400-1764522000@archeologicovenezia.cultura.gov.it
SUMMARY:ArcheoMateria di Michela Cattai
DESCRIPTION:Michela Cattai- ArcheoMateria  \nA cura di Francesca Giubilei \n30 ottobre- 30 novembre 2025 \n  \nIl Museo archeologico nazionale di Venezia ospita la mostra ArcheoMateria dell’artista e designer Michela Cattai\, a cura di Francesca Giubilei\, con l’intervento della storica del vetro Rosa Barovier Mentasti. \nL’esposizione mette in dialogo con le collezioni del Museo oltre venti opere realizzate dall’artista negli ultimi anni\, creando una connessione tra il collezionismo di antichità del patriziato veneziano e l’arte vetraria di Murano. \nIl vetro di Cattai diventa eco contemporanea della scultura classica attraverso appropriazioni e reinvenzioni dei motivi estetici tradizionali: scanalature\, pieghe e chiaroscuri. \nDue nuove serie segnano il cuore della mostra: ArcheoMateria\, che indaga il concetto di reperto come oggetto di contemplazione estetica e Colonne d’aria\, che richiama i fusti scanalati delle colonne antiche\, trasformando il vetro in elemento leggero e dinamico\, con superfici ritmate da pieni e vuoti. \n  \nMichela Cattai è artista e gallerista. Nel 1991 fonda a Milano la propria galleria d’arte ART+DESIGN \nLe sue opere sono presenti in collezioni permanenti\, tra cui Stiftung Museum Kunst Palast (Düsseldorf)\, Museo del Vetro di Murano\, Scuola Grande di San Giovanni Evangelista (Venezia)\, Ambasciata d’Italia di Tokyo e Museo Galleria d’Arte Moderna Carlo Rizzarda (Feltre). \nNel 2019 assume il ruolo di Art Director di Venini\, per dedicarsi dal 2023 interamente alla propria ricerca artistica \n  \nIngresso: Piazzetta San Marco 17 \nOrari di apertura: martedì – domenica; 10.00 – 17.00 (ultimo accesso ore 16) \nBiglietti: 8 euro per Museo archeologico nazionale di Venezia e Biblioteca Marciana (salvo riduzioni e gratuità di legge).
URL:https://archeologicovenezia.cultura.gov.it/event/archeomateria-di-michela-cattai/
LOCATION:Museo Archeologico Nazionale di  Venezia\, Piazza San Marco 17\, Venezia Italia\, Italia
CATEGORIES:Mostra
ATTACH;FMTTYPE=image/jpeg:https://archeologicovenezia.cultura.gov.it/wp-content/uploads/2025/10/ArcheoMateria_Cattai-newsletter_2-1.jpg
ORGANIZER;CN="Museo%20Archeologico%20Nazionale%20di%20%20Venezia":MAILTO:info.archeologicovenezia@cultura.gov.it
END:VEVENT
BEGIN:VEVENT
DTSTART;TZID=Europe/Rome:20251102T100000
DTEND;TZID=Europe/Rome:20251102T170000
DTSTAMP:20260420T164103
CREATED:20251031T132247Z
LAST-MODIFIED:20251031T132247Z
UID:6263-1762077600-1762102800@archeologicovenezia.cultura.gov.it
SUMMARY:Domenica al Museo
DESCRIPTION:Domenica 2 novembre ritorna Domenica al Museo\, l’iniziativa del Ministero della Cultura che prevede l’accesso gratuito ogni prima domenica del mese a monumenti\, musei\, gallerie\,\nscavi archeologici\, parchi e giardini monumentali dello Stato.\nIn tale data il Museo archeologico nazionale di Venezia e le sale monumentali della Biblioteca Nazionale Marciana saranno aperti gratuitamente dalle ore 10.00 alle ore 17.00 (ultimo ingresso alle ore 16.00)\, dal cortile storico del Museo in Piazzetta San Marco 17. Ricordiamo che le operazioni di deflusso del pubblico iniziano 30 minuti prima della chiusura. \nSarà l’occasione per visitare le mostre ArcheoMateria di Michela Cattai\, a cura di Francesca Giubilei\, e Destinazione Mostra. Prima fermata Restauro Cinque anni di interventi tra valorizzazione e tutela\, a cura di Claudia Benvestito\,\nIl Museo Correr non aderisce all’iniziativa in quanto museo civico\, non statale. \n\nSi precisa che\, per motivi di sicurezza\, non sono ammessi visitatori con zaini\, trolley e borse ingombranti: si invitano i visitatori a depositare i propri zaini o bagagli nel guardaroba all’ingresso. Il servizio è gratuito. \n\n  \n Domenica 2 novembre: ingresso gratuito\n 10- 17 (ultimo accesso ore 16)\n Piazzetta San Marco 17\nNon è prevista la prenotazione. \n 
URL:https://archeologicovenezia.cultura.gov.it/event/domenica-al-museo-17/
LOCATION:Museo Archeologico Nazionale di  Venezia\, Piazza San Marco 17\, Venezia Italia\, Italia
CATEGORIES:Apertura gratuita
ATTACH;FMTTYPE=image/jpeg:https://archeologicovenezia.cultura.gov.it/wp-content/uploads/2025/10/1000151048.jpg
END:VEVENT
BEGIN:VEVENT
DTSTART;TZID=Europe/Rome:20251104T100000
DTEND;TZID=Europe/Rome:20251104T170000
DTSTAMP:20260420T164103
CREATED:20251031T133244Z
LAST-MODIFIED:20251031T133244Z
UID:6267-1762250400-1762275600@archeologicovenezia.cultura.gov.it
SUMMARY:Giorno dell’Unità nazionale- Ingresso gratuito
DESCRIPTION:Martedì 4 novembre\, Giorno dell’Unità nazionale e Giornata delle Forze Armate\, il Museo archeologico nazionale di Venezia e le sale monumentali della Biblioteca Nazionale Marciana saranno aperti gratuitamente dalle ore 10.00 alle ore 17.00 (ultimo ingresso alle ore 16.00). \nL’ingresso avverrà dal cortile storico del Museo in Piazzetta San Marco 17. Ricordiamo che le operazioni di deflusso del pubblico iniziano 30 minuti prima della chiusura. \nSarà l’occasione per visitare le mostre ArcheoMateria di Michela Cattai\, a cura di Francesca Giubilei\, e Destinazione Mostra. Prima fermata Restauro Cinque anni di interventi tra valorizzazione e tutela\, a cura di Claudia Benvestito\,\nIl Museo Correr non aderisce all’iniziativa in quanto museo civico\, non statale. \n\nSi precisa che\, per motivi di sicurezza\, non saranno ammessi visitatori con zaini\, trolley e borse ingombranti: si invitano i visitatori a depositare i propri zaini o bagagli nel guardaroba all’ingresso. Il servizio è gratuito. \n\n  \n Martedì 4 novembre: ingresso gratuito\n 10- 17 (ultimo accesso ore 16)\n Piazzetta San Marco 17\nNon è prevista la prenotazione.
URL:https://archeologicovenezia.cultura.gov.it/event/giorno-dellunita-nazionale-ingresso-gratuito/
LOCATION:Museo Archeologico Nazionale di  Venezia\, Piazza San Marco 17\, Venezia Italia\, Italia
CATEGORIES:Apertura gratuita
ATTACH;FMTTYPE=image/jpeg:https://archeologicovenezia.cultura.gov.it/wp-content/uploads/2025/10/1000151056.jpg
END:VEVENT
BEGIN:VEVENT
DTSTART;TZID=Europe/Rome:20251108T110000
DTEND;TZID=Europe/Rome:20251108T120000
DTSTAMP:20260420T164103
CREATED:20251031T134606Z
LAST-MODIFIED:20251031T134606Z
UID:6271-1762599600-1762603200@archeologicovenezia.cultura.gov.it
SUMMARY:Visita guidata alla mostra ArcheoMateria con l'artista Michela Cattai
DESCRIPTION:Sabato 8 novembre\, alle ore 11\, sarà possibile visitare la mostra ArcheoMateria\, ospitata nelle sale del Museo archeologico nazionale di Venezia\, in compagnia di un’ospite d’eccezione: l’artista e designer Michela Cattai. \nL’esposizione\, a cura di Francesca Giubilei\, mette in dialogo con le collezioni del Museo oltre venti opere realizzate dall’artista negli ultimi anni\, creando una connessione tra il collezionismo di antichità del patriziato veneziano e l’arte vetraria di Murano. \nIl vetro di Cattai diventa eco contemporanea della scultura classica attraverso appropriazioni e reinvenzioni dei motivi estetici tradizionali: scanalature\, pieghe e chiaroscuri. \nDue nuove serie segnano il cuore della mostra: ArcheoMateria\, che indaga il concetto di reperto come oggetto di contemplazione estetica e Colonne d’aria\, che richiama i fusti scanalati delle colonne antiche\, trasformando il vetro in elemento leggero e dinamico\, con superfici ritmate da pieni e vuoti. \n  \nL’evento è gratuito previo acquisto del biglietto di ingresso al Museo. \nE’ necessaria la prenotazione telefonica allo 0412997602 \n  \nMichela Cattai è artista e gallerista. Nel 1991 fonda a Milano la propria galleria d’arte ART+DESIGN \nLe sue opere sono presenti in collezioni permanenti\, tra cui Stiftung Museum Kunst Palast (Düsseldorf)\, Museo del Vetro di Murano\, Scuola Grande di San Giovanni Evangelista (Venezia)\, Ambasciata d’Italia di Tokyo e Museo Galleria d’Arte Moderna Carlo Rizzarda (Feltre). \nNel 2019 assume il ruolo di Art Director di Venini\, per dedicarsi dal 2023 interamente alla propria ricerca artistica \n  \nIngresso: Piazzetta San Marco 17 \nEvento gratuito compreso nell’acquisto del biglietto di ingresso: 8 euro per Museo archeologico nazionale di Venezia e Biblioteca Marciana (salvo riduzioni e gratuità di legge). \nPrenotazione obbligatoria: 0412997602 \nPosti limitati. \n 
URL:https://archeologicovenezia.cultura.gov.it/event/visita-guidata-alla-mostra-archeomateria-con-lartista-michela-cattai/
LOCATION:Museo Archeologico Nazionale di  Venezia\, Piazza San Marco 17\, Venezia Italia\, Italia
CATEGORIES:Visita guidata
ATTACH;FMTTYPE=image/jpeg:https://archeologicovenezia.cultura.gov.it/wp-content/uploads/2025/10/1000151042-scaled.jpg
ORGANIZER;CN="Museo%20Archeologico%20Nazionale%20di%20%20Venezia":MAILTO:info.archeologicovenezia@cultura.gov.it
END:VEVENT
BEGIN:VEVENT
DTSTART;TZID=Europe/Rome:20251115T100000
DTEND;TZID=Europe/Rome:20251115T110000
DTSTAMP:20260420T164103
CREATED:20251031T180900Z
LAST-MODIFIED:20251031T180900Z
UID:6276-1763200800-1763204400@archeologicovenezia.cultura.gov.it
SUMMARY:Avventure tra le pagine- Kid Pass- Laboratorio per famiglie
DESCRIPTION:In occasione dell’evento 𝑨𝒗𝒗𝒆𝒏𝒕𝒖𝒓𝒆 𝒕𝒓𝒂 𝒍𝒆 𝒑𝒂𝒈𝒊𝒏𝒆- 𝑳𝒆𝒈𝒈𝒊𝒂𝒎𝒐 𝒂𝒍 𝒎𝒖𝒔𝒆𝒐\, mamme\, papà e bambini dai 5 anni in su sono invitati a scovare gli animali nascosti nelle sale del Museo archeologico di Venezia. Al termine leggeremo alcune famose favole di Esopo.\n\n\n\nEvento 𝐠𝐫𝐚𝐭𝐮𝐢𝐭𝐨 𝐩𝐫𝐞𝐯𝐢𝐨 𝐚𝐜𝐪𝐮𝐢𝐬𝐭𝐨 𝐝𝐞𝐥 𝐛𝐢𝐠𝐥𝐢𝐞𝐭𝐭𝐨 𝐝𝐢 𝐢𝐧𝐠𝐫𝐞𝐬𝐬𝐨 (intero: 8 euro/ gratuito per i minori di 18 anni).\n\n\n\nPer famiglie con bambini dai 5 anni in su\n Ingresso da Piazzetta San Marco 17\nPrenotazione obbligatoria al numero: 0412997602\nPosti limitati.\n\n\n\n\n\n#museoarcheologicovenezia #venezia #venice #archeologia #kidpass #bambinialmuseo
URL:https://archeologicovenezia.cultura.gov.it/event/avventure-tra-le-pagine-kid-pass-laboratorio-per-famiglie/
LOCATION:Museo Archeologico Nazionale di  Venezia\, Piazza San Marco 17\, Venezia Italia\, Italia
CATEGORIES:Laboratorio didattico
ATTACH;FMTTYPE=image/png:https://archeologicovenezia.cultura.gov.it/wp-content/uploads/2025/10/1000150504.png
END:VEVENT
BEGIN:VEVENT
DTSTART;TZID=Europe/Rome:20251126T153000
DTEND;TZID=Europe/Rome:20251126T163000
DTSTAMP:20260420T164103
CREATED:20251118T174850Z
LAST-MODIFIED:20251118T174850Z
UID:6343-1764171000-1764174600@archeologicovenezia.cultura.gov.it
SUMMARY:𝐈 𝐌𝐄𝐑𝐂𝐎𝐋𝐄𝐃𝐈̀ 𝐃𝐄𝐋 𝐌𝐔𝐒𝐄𝐎 𝐀𝐑𝐂𝐇𝐄𝐎𝐋𝐎𝐆𝐈𝐂𝐎 𝐍𝐀𝐙𝐈𝐎𝐍𝐀𝐋𝐄 𝐃𝐈 𝐕𝐄𝐍𝐄𝐙𝐈𝐀
DESCRIPTION:I Musei archeologici nazionali di Venezia e della Laguna vi ricordano il quarto appuntamento con il nostro staff. \nMercoledì 26 novembre alle ore 15.30 vi aspettiamo con la visita guidata dal titolo: \n Il museo prima del museo: un percorso attraverso i collezionisti che gli hanno dato vita  \nLa visita guidata è inclusa nel costo del biglietto e gratuita per gli abbonati.\nÈ necessaria la prenotazione.\nIngresso dal cortile del Museo archeologico nazionale di Venezia\, civico 17 di Piazzetta San Marco. \n𝗣𝗲𝗿 𝗶𝗻𝗳𝗼𝗿𝗺𝗮𝘇𝗶𝗼𝗻𝗶 𝗲 𝗽𝗿𝗲𝗻𝗼𝘁𝗮𝘇𝗶𝗼𝗻𝗶\n+39 041 299 7602\ninfo.archeologicovenezia@cultura.gov.it
URL:https://archeologicovenezia.cultura.gov.it/event/%f0%9d%90%88-%f0%9d%90%8c%f0%9d%90%84%f0%9d%90%91%f0%9d%90%82%f0%9d%90%8e%f0%9d%90%8b%f0%9d%90%84%f0%9d%90%83%f0%9d%90%88-%f0%9d%90%83%f0%9d%90%84%f0%9d%90%8b-%f0%9d%90%8c%f0%9d%90%94-3/
LOCATION:Museo Archeologico Nazionale di  Venezia\, Piazza San Marco 17\, Venezia Italia\, Italia
CATEGORIES:Visita guidata
ATTACH;FMTTYPE=image/jpeg:https://archeologicovenezia.cultura.gov.it/wp-content/uploads/2025/11/Mercoledi_MAV2.jpg
ORGANIZER;CN="Museo%20Archeologico%20Nazionale%20di%20%20Venezia":MAILTO:info.archeologicovenezia@cultura.gov.it
END:VEVENT
END:VCALENDAR