BEGIN:VCALENDAR
VERSION:2.0
PRODID:-//Museo Archeologico Nazionale di Venezia - ECPv6.0.6.2//NONSGML v1.0//EN
CALSCALE:GREGORIAN
METHOD:PUBLISH
X-WR-CALNAME:Museo Archeologico Nazionale di Venezia
X-ORIGINAL-URL:https://archeologicovenezia.cultura.gov.it
X-WR-CALDESC:Events for Museo Archeologico Nazionale di Venezia
REFRESH-INTERVAL;VALUE=DURATION:PT1H
X-Robots-Tag:noindex
X-PUBLISHED-TTL:PT1H
BEGIN:VTIMEZONE
TZID:Europe/Rome
BEGIN:DAYLIGHT
TZOFFSETFROM:+0100
TZOFFSETTO:+0200
TZNAME:CEST
DTSTART:20240331T010000
END:DAYLIGHT
BEGIN:STANDARD
TZOFFSETFROM:+0200
TZOFFSETTO:+0100
TZNAME:CET
DTSTART:20241027T010000
END:STANDARD
END:VTIMEZONE
BEGIN:VEVENT
DTSTART;TZID=Europe/Rome:20241006T100000
DTEND;TZID=Europe/Rome:20241006T180000
DTSTAMP:20260419T181850
CREATED:20241005T131701Z
LAST-MODIFIED:20241005T131701Z
UID:5481-1728208800-1728237600@archeologicovenezia.cultura.gov.it
SUMMARY:Domenica al Museo- Ingresso gratuito
DESCRIPTION:Torna #DomenicalMuseo\, iniziativa del Ministero della Cultura che prevede l’accesso gratuito ogni prima domenica del mese a monumenti\, musei\, gallerie\, scavi archeologici\, parchi e giardini monumentali dello Stato. \nDomenica 6 ottobre 2024\, tutti potranno accedere gratuitamente al Museo archeologico di Venezia e alle sale monumentali della Biblioteca Nazionale Marciana (orario: 10.00 – 18.00\, ultimo ingresso alle ore 17.00). \nNon è prevista la prenotazione. \nIl pubblico che desidera visitare soltanto queste due sedi (il Museo Correr rimarrà a pagamento) potrà accedervi dall’ingresso storico della Biblioteca Nazionale Marciana (Libreria Sansoviniana: Piazzetta San Marco n. 13/a). \nCon l’occasione\, si potrà visitare anche la mostra “Deep” dell’artista Erwin Wurm\, ospitata nelle sale monumentali. \nSi precisa che\, per motivi di sicurezza\, non saranno ammessi visitatori con zaini\, trolley e borse ingombranti\, poiché la Biblioteca Nazionale Marciana nelle Sua Sale Monumentali non è dotata di ambienti atti a guardaroba e deposito bagagli\, si invitano i visitatori a depositare i propri zaini o bagagli in altro luogo esterno alla Biblioteca\, in vista della visita. I visitatori potranno scegliere di depositarli all’ingresso\, spazio non custodito e dunque sollevando da ogni responsabilità il personale delle sale. Saranno ammessi solo zaini e borse di piccole dimensioni. \n 
URL:https://archeologicovenezia.cultura.gov.it/event/domenica-al-museo-ingresso-gratuito-12/
LOCATION:Museo Archeologico Nazionale di  Venezia\, Piazza San Marco 17\, Venezia Italia\, Italia
CATEGORIES:Apertura gratuita,Domenica al Museo
ATTACH;FMTTYPE=image/png:https://archeologicovenezia.cultura.gov.it/wp-content/uploads/2024/10/domenica-6-ottobre-card.png
END:VEVENT
BEGIN:VEVENT
DTSTART;TZID=Europe/Rome:20241013T153000
DTEND;TZID=Europe/Rome:20241013T163000
DTSTAMP:20260419T181850
CREATED:20241007T164846Z
LAST-MODIFIED:20241007T164846Z
UID:5485-1728833400-1728837000@archeologicovenezia.cultura.gov.it
SUMMARY:F@Mu2024 a Venezia |Safarimuseo al Museo archeologico nazionale
DESCRIPTION:F@Mu2024 a Venezia |Safarimuseo  al Museo archeologico  nazionale \nDomenica 13 ottobre ore 15.30 \nQuanti animali si nascondono tra le sculture del museo archeologico? Molti di più di quelli che pensate!\nIn occasione della Giornata delle Famiglie al museo invitiamo mamme\, papà e bambini dai 3 anni in su a fare un safari nelle nostre sale. \nOgni famiglia dovrà aguzzare la vista e “catturare” con una foto alcuni animali. \nChi supererà tutte le prove vincerà la gloria e un gadget. \nEvento gratuito previo acquisto del biglietto “Musei di Piazza San Marco”\, gratuito per i residenti del comune di Venezia.\nIngresso dal Museo Correr\, punto di incontro: sala 9 del Museo Archeologico.\nPrenotazione obbligatoria allo 0412997602.
URL:https://archeologicovenezia.cultura.gov.it/event/fmu2024-a-venezia-safarimuseo-al-museo-archeologico-nazionale/
LOCATION:Museo Archeologico Nazionale di  Venezia\, Piazza San Marco 17\, Venezia Italia\, Italia
CATEGORIES:Laboratorio didattico
ATTACH;FMTTYPE=image/png:https://archeologicovenezia.cultura.gov.it/wp-content/uploads/2024/10/famu-2024-post_manvelag.png
ORGANIZER;CN="Museo%20Archeologico%20Nazionale%20di%20%20Venezia":MAILTO:info.archeologicovenezia@cultura.gov.it
END:VEVENT
BEGIN:VEVENT
DTSTART;TZID=Europe/Rome:20241019T153000
DTEND;TZID=Europe/Rome:20241019T163000
DTSTAMP:20260419T181850
CREATED:20241016T131654Z
LAST-MODIFIED:20241016T131654Z
UID:5491-1729351800-1729355400@archeologicovenezia.cultura.gov.it
SUMMARY:MuseoSafari- laboratorio per famiglie
DESCRIPTION:A grande richiesta\, torna il laboratorio per famiglie “archeologiche”\, adatto anche a bambini piccoli. \nQuanti animali si nascondono tra le sculture del museo archeologico? Molti di più di quelli che pensate!\nInvitiamo mamme\, papà e bambini dai 3 anni in su a fare un safari nelle nostre sale. \nOgni famiglia dovrà aguzzare la vista e “catturare” con una foto alcuni animali. \nChi supererà tutte le prove vincerà la gloria e un gadget. \nEvento gratuito previo acquisto del biglietto “Musei di Piazza San Marco”\, gratuito per i residenti del comune di Venezia.\nIngresso dal Museo Correr\, punto di incontro: sala 9 del Museo Archeologico.\nPrenotazione obbligatoria allo 0412997602.
URL:https://archeologicovenezia.cultura.gov.it/event/museosafari-laboratorio-per-famiglie/
LOCATION:Museo Archeologico Nazionale di  Venezia\, Piazza San Marco 17\, Venezia Italia\, Italia
CATEGORIES:Laboratorio didattico
ATTACH;FMTTYPE=image/png:https://archeologicovenezia.cultura.gov.it/wp-content/uploads/2024/10/MUSEOSAFARI.png
END:VEVENT
END:VCALENDAR