BEGIN:VCALENDAR
VERSION:2.0
PRODID:-//Museo Archeologico Nazionale di Venezia - ECPv6.0.6.2//NONSGML v1.0//EN
CALSCALE:GREGORIAN
METHOD:PUBLISH
X-WR-CALNAME:Museo Archeologico Nazionale di Venezia
X-ORIGINAL-URL:https://archeologicovenezia.cultura.gov.it
X-WR-CALDESC:Events for Museo Archeologico Nazionale di Venezia
REFRESH-INTERVAL;VALUE=DURATION:PT1H
X-Robots-Tag:noindex
X-PUBLISHED-TTL:PT1H
BEGIN:VTIMEZONE
TZID:Europe/Rome
BEGIN:DAYLIGHT
TZOFFSETFROM:+0100
TZOFFSETTO:+0200
TZNAME:CEST
DTSTART:20220327T010000
END:DAYLIGHT
BEGIN:STANDARD
TZOFFSETFROM:+0200
TZOFFSETTO:+0100
TZNAME:CET
DTSTART:20221030T010000
END:STANDARD
END:VTIMEZONE
BEGIN:VEVENT
DTSTART;TZID=Europe/Rome:20221002T100000
DTEND;TZID=Europe/Rome:20221002T180000
DTSTAMP:20260419T194209
CREATED:20221002T080047Z
LAST-MODIFIED:20221002T080047Z
UID:4552-1664704800-1664733600@archeologicovenezia.cultura.gov.it
SUMMARY:#Domenicalmuseo
DESCRIPTION:Ingresso gratuito a tutti i musei statali la prima domenica del mese. \nAccesso da Piazzetta San Marco 17\, senza obbligo di prenotazione. \nVisite guidate gratuite a cura di Margherita Fuga alle ore 10.30 e 11.30. \nOrario: 10-18 (ultimo accesso ore 17)
URL:https://archeologicovenezia.cultura.gov.it/event/domenicalmuseo/
LOCATION:Museo Archeologico Nazionale di  Venezia\, Piazza San Marco 17\, Venezia Italia\, Italia
ATTACH;FMTTYPE=image/jpeg:https://archeologicovenezia.cultura.gov.it/wp-content/uploads/2022/10/My-project-11.jpg
ORGANIZER;CN="Museo%20Archeologico%20Nazionale%20di%20%20Venezia":MAILTO:info.archeologicovenezia@cultura.gov.it
END:VEVENT
BEGIN:VEVENT
DTSTART;TZID=Europe/Rome:20221009T160000
DTEND;TZID=Europe/Rome:20221009T170000
DTSTAMP:20260419T194209
CREATED:20221002T074904Z
LAST-MODIFIED:20221002T074904Z
UID:4545-1665331200-1665334800@archeologicovenezia.cultura.gov.it
SUMMARY:F@mu- Giornata delle Famiglie al Museo
DESCRIPTION:Laboratorio didattico per famiglie con bambini tra gli 8 e i 10 anni. \nVi piacciono i miti greci? Qual è il vostro preferito? Venite a passeggiare nelle nostre sale guidati dalle leggende di eroi e dèi\, scegliete il vostro mito del cuore e fatevi immortalare in una foto ricordo. \nIngresso e partecipazione gratuita previa prenotazione telefonica allo 041 2967663. Posti limitati. \nAccesso da Piazzetta San Marco 17. \nA cura di Margherita Fuga \n#famigliealmuseo #famu #mitologia #archeologia \n 
URL:https://archeologicovenezia.cultura.gov.it/event/fmu-giornata-delle-famiglie-al-museo/
LOCATION:Museo Archeologico Nazionale di  Venezia\, Piazza San Marco 17\, Venezia Italia\, Italia
ATTACH;FMTTYPE=image/jpeg:https://archeologicovenezia.cultura.gov.it/wp-content/uploads/2022/10/laboratorio-bambini-2022-1.jpg
ORGANIZER;CN="Museo%20Archeologico%20Nazionale%20di%20%20Venezia":MAILTO:info.archeologicovenezia@cultura.gov.it
END:VEVENT
END:VCALENDAR