BEGIN:VCALENDAR
VERSION:2.0
PRODID:-//Museo Archeologico Nazionale di Venezia - ECPv6.0.6.2//NONSGML v1.0//EN
CALSCALE:GREGORIAN
METHOD:PUBLISH
X-WR-CALNAME:Museo Archeologico Nazionale di Venezia
X-ORIGINAL-URL:https://archeologicovenezia.cultura.gov.it
X-WR-CALDESC:Events for Museo Archeologico Nazionale di Venezia
REFRESH-INTERVAL;VALUE=DURATION:PT1H
X-Robots-Tag:noindex
X-PUBLISHED-TTL:PT1H
BEGIN:VTIMEZONE
TZID:Europe/Rome
BEGIN:DAYLIGHT
TZOFFSETFROM:+0100
TZOFFSETTO:+0200
TZNAME:CEST
DTSTART:20260329T010000
END:DAYLIGHT
BEGIN:STANDARD
TZOFFSETFROM:+0200
TZOFFSETTO:+0100
TZNAME:CET
DTSTART:20261025T010000
END:STANDARD
END:VTIMEZONE
BEGIN:VEVENT
DTSTART;TZID=Europe/Rome:20260425T100000
DTEND;TZID=Europe/Rome:20260425T180000
DTSTAMP:20260425T181241
CREATED:20260423T120502Z
LAST-MODIFIED:20260423T120502Z
UID:6452-1777111200-1777140000@archeologicovenezia.cultura.gov.it
SUMMARY:Festa della Liberazione- Ingresso gratuito
DESCRIPTION:In occasione della Festa della liberazione d’Italia dall’occupazione nazista e dal fascismo\, i musei e i parchi archeologici statali saranno aperti gratuitamente.\nIl Museo archeologico nazionale di Venezia e le sale monumentali della Biblioteca Marciana aderiscono all’iniziativa e saranno aperti al pubblico dalle ore 10 alle ore 18 (ultimo accesso ore 17). \n\nL’ingresso sarà dal cortile storico del Museo in Piazzetta San Marco 17. Ricordiamo che le operazioni di deflusso del pubblico iniziano 30 minuti prima della chiusura.\nIl Museo Correr non aderisce all’iniziativa in quanto museo civico\, non statale. \n\nSi precisa che\, per motivi di sicurezza\, non sono ammessi visitatori con zaini\, trolley e borse ingombranti: si invitano i visitatori a depositare i propri zaini o bagagli nel guardaroba all’ingresso. Il servizio è gratuito. \n\nFoto: Testa di Tyche\, opera romana\, secondo secolo\, collezione Grimani \n Sabato 25 aprile: ingresso gratuito\n 10- 18 (ultimo accesso ore 17)\n Piazzetta San Marco 17\nNon è prevista la prenotazione \n\n  \n 
URL:https://archeologicovenezia.cultura.gov.it/event/festa-della-liberazione-ingresso-gratuito-3/
LOCATION:Museo Archeologico Nazionale di  Venezia\, Piazza San Marco 17\, Venezia Italia\, Italia
CATEGORIES:Apertura gratuita
ATTACH;FMTTYPE=image/png:https://archeologicovenezia.cultura.gov.it/wp-content/uploads/2026/04/25-aprile-2026-card.png
END:VEVENT
BEGIN:VEVENT
DTSTART;TZID=Europe/Rome:20260428T164500
DTEND;TZID=Europe/Rome:20260428T180000
DTSTAMP:20260425T181241
CREATED:20260424T151449Z
LAST-MODIFIED:20260424T151449Z
UID:6486-1777394700-1777399200@archeologicovenezia.cultura.gov.it
SUMMARY:Immagine e potere: il volto degli imperatori tra ritratti e fonti
DESCRIPTION:Martedì 28 aprile\, alle ore 16.45\, sarà possibile partecipare alla visita tematica Immagine e potere: il volto degli imperatori tra ritratti e fonti\, a cura del dottor Luca Trolese.  \n\n\nLa visita\, della durata di un’ora\, si propone di indagare l’immagine di alcuni imperatori romani confrontandone i ritratti della collezione del Museo archeologico nazionale di Venezia con le corrispettive descrizioni fornite dalle fonti storiche\, in primis Le vite dei Cesari di Svetonio e l’Historia Augusta.  \n\n\n\nLa visita tematica è la prima del ciclo di eventi intitolato Un viso familiare e organizzato dai Musei archeologici nazionali di Venezia e della Laguna per esplorare l’arte della ritrattistica dalla Roma imperiale fino ai giorni nostri.  \n\n\n\nLa visita sarà gratuita previo acquisto del biglietto di ingresso al Museo.\nPrenotazione obbligatoria allo 0412997602.  \n\nMuseo archeologico nazionale di Venezia\n\n\nPiazzetta San Marco 17\n Martedì 28 aprile\, ore 16.45\n𝐏𝐫𝐞𝐧𝐨𝐭𝐚𝐳𝐢𝐨𝐧𝐞 𝐨𝐛𝐛𝐥𝐢𝐠𝐚𝐭𝐨𝐫𝐢𝐚 allo 0412997602. Posti limitati\nBiglietti: interi 8€/ ridotto giovani 18-25 anni 2€/ gratuito per aventi diritto e abbonati\nL’abbonamento annuale #𝐀𝐫𝐜𝐡𝐞𝐨𝐥𝐨𝐠𝐢𝐜𝐨𝟑𝟔𝟓 a 25 euro permette ingressi illimitati.
URL:https://archeologicovenezia.cultura.gov.it/event/immagine-e-potere-il-volto-degli-imperatori-tra-ritratti-e-fonti/
LOCATION:Museo Archeologico Nazionale di  Venezia\, Piazza San Marco 17\, Venezia Italia\, Italia
CATEGORIES:Visita guidata
ATTACH;FMTTYPE=image/png:https://archeologicovenezia.cultura.gov.it/wp-content/uploads/2026/04/cover-FB_RITRATTI.png
ORGANIZER;CN="Museo%20Archeologico%20Nazionale%20di%20%20Venezia":MAILTO:info.archeologicovenezia@cultura.gov.it
END:VEVENT
END:VCALENDAR