BEGIN:VCALENDAR
VERSION:2.0
PRODID:-//Museo Archeologico Nazionale di Venezia - ECPv6.0.6.2//NONSGML v1.0//EN
CALSCALE:GREGORIAN
METHOD:PUBLISH
X-WR-CALNAME:Museo Archeologico Nazionale di Venezia
X-ORIGINAL-URL:https://archeologicovenezia.cultura.gov.it
X-WR-CALDESC:Events for Museo Archeologico Nazionale di Venezia
REFRESH-INTERVAL;VALUE=DURATION:PT1H
X-Robots-Tag:noindex
X-PUBLISHED-TTL:PT1H
BEGIN:VTIMEZONE
TZID:Europe/Rome
BEGIN:DAYLIGHT
TZOFFSETFROM:+0100
TZOFFSETTO:+0200
TZNAME:CEST
DTSTART:20220327T010000
END:DAYLIGHT
BEGIN:STANDARD
TZOFFSETFROM:+0200
TZOFFSETTO:+0100
TZNAME:CET
DTSTART:20221030T010000
END:STANDARD
BEGIN:DAYLIGHT
TZOFFSETFROM:+0100
TZOFFSETTO:+0200
TZNAME:CEST
DTSTART:20230326T010000
END:DAYLIGHT
BEGIN:STANDARD
TZOFFSETFROM:+0200
TZOFFSETTO:+0100
TZNAME:CET
DTSTART:20231029T010000
END:STANDARD
END:VTIMEZONE
BEGIN:VEVENT
DTSTART;TZID=Europe/Rome:20230205T100000
DTEND;TZID=Europe/Rome:20230205T170000
DTSTAMP:20260423T173357
CREATED:20230201T125336Z
LAST-MODIFIED:20230201T125336Z
UID:4711-1675591200-1675616400@archeologicovenezia.cultura.gov.it
SUMMARY:Domenica al Museo- Ingresso gratuito
DESCRIPTION:Domenica 5 febbraio 2023\, in occasione della prima domenica del mese\, sarà possibile visitare gratuitamente il Museo Archeologico Nazionale di Venezia e le Sale Monumentali della Biblioteca Nazionale Marciana. L’ingresso sarà dallo scalone d’oro della Biblioteca Marciana (Piazzetta San Marco 13/a). Orario: 10.00 – 17.00\, ultimo ingresso alle ore 16.00. \nRicordiamo che il Museo Correr  non partecipa a questa iniziativa ministeriale essendo un museo civico\, non statale. \nI visitatori in possesso del biglietto a pagamento “Musei di piazza San Marco” sono invitati ad entrare dal Museo Correr. \nSarà possibile usufruire di visite guidate gratuite\, a cura di Marco Leardini\, ai seguenti orari: 10.30 e  12.30 \nPunto di incontro: sala 5 del Museo Archeologico. Non è necessaria la prenotazione. \nE’ vivamente consigliato l’uso di mascherine FFP2. \nSi precisa che\, per motivi di sicurezza\, non saranno ammessi visitatori con zaini\, trolley e borse ingombranti.
URL:https://archeologicovenezia.cultura.gov.it/event/domenica-al-museo-ingresso-gratuito-2/
LOCATION:Museo Archeologico Nazionale di  Venezia\, Piazza San Marco 17\, Venezia Italia\, Italia
ATTACH;FMTTYPE=image/jpeg:https://archeologicovenezia.cultura.gov.it/wp-content/uploads/2023/02/DomenicheMuseo_5febbraio_Card_DEF-scaled-1.jpg
END:VEVENT
BEGIN:VEVENT
DTSTART;TZID=Europe/Rome:20221226T110000
DTEND;TZID=Europe/Rome:20221226T123000
DTSTAMP:20260423T173357
CREATED:20221222T113958Z
LAST-MODIFIED:20221222T113958Z
UID:4680-1672052400-1672057800@archeologicovenezia.cultura.gov.it
SUMMARY:Visita guidata gratuita
DESCRIPTION:Il Museo Archeologico Nazionale di Venezia è lieto di offrire una VISITA GUIDATA\, gratuita.\n\n\n\nLunedì 26 dicembre alle 11.\nIngresso dal Museo Correr\, previo acquisto del biglietto integrato dei musei di Piazza San Marco\, ritrovo nella sala IX del Museo Archeologico.\n\n\nLa visita prevede un excursus sul collezionismo veneziano dal XVI secolo in poi\, una panoramica sull’arte e l’archeologia greco-romana dal periodo arcaico all’età imperiale\, una digressione sulla numismatica antica\, un focus su epigrafia ed arte funeraria romana\, uno spaccato sul rituale egizio della mummificazione\, un assaggio di arte paleocristiana\, attraverso una storytelling avvincente\, una narrazione brillante e coinvolgente\, accompagnata da simpatici aneddoti museali uniti ad elementi di museografia e museologia\, condensati in un’ora o poco più.
URL:https://archeologicovenezia.cultura.gov.it/event/visita-guidata-gratuita/
LOCATION:Museo Archeologico Nazionale di  Venezia\, Piazza San Marco 17\, Venezia Italia\, Italia
CATEGORIES:Visita guidata
ATTACH;FMTTYPE=image/png:https://archeologicovenezia.cultura.gov.it/wp-content/uploads/2022/12/Traiano-1.png
ORGANIZER;CN="Museo%20Archeologico%20Nazionale%20di%20%20Venezia":MAILTO:info.archeologicovenezia@cultura.gov.it
END:VEVENT
BEGIN:VEVENT
DTSTART;TZID=Europe/Rome:20221204T100000
DTEND;TZID=Europe/Rome:20221204T170000
DTSTAMP:20260423T173357
CREATED:20221129T120356Z
LAST-MODIFIED:20221129T120356Z
UID:4667-1670148000-1670173200@archeologicovenezia.cultura.gov.it
SUMMARY:Domenica al Museo- Ingresso gratuito la prima domenica del mese
DESCRIPTION:Domenica 4 dicembre 2022\, in occasione della prima domenica del mese\, sarà possibile visitare gratuitamente il Museo Archeologico Nazionale di Venezia e le Sale Monumentali della Biblioteca Nazionale Marciana. L’ingresso sarà dallo scalone d’oro della Biblioteca Marciana (Piazzetta San Marco 13/a). Orario: 10.00 – 17.00\, ultimo ingresso alle ore 16.00. \nRicordiamo che il Museo Correr  non partecipa a questa iniziativa ministeriale essendo un museo civico\, non statale. \nI visitatori in possesso del biglietto a pagamento “Musei di piazza San Marco” sono invitati ad entrare dal Museo Correr. \nSarà possibile usufruire di visite guidate gratuite ai seguenti orari: 10.30/ 11.30/ 13.00/ 14.00/ 15.00 \nLe visite\, a cura di Mauro Marchiori\, saranno focalizzate sulla nostra sezione egizia. Punto di incontro: sala 5 del Museo Archeologico. Non è necessaria la prenotazione. \nE’ vivamente consigliato l’uso di mascherine FFP2. \nSi precisa che\, per motivi di sicurezza\, non saranno ammessi visitatori con zaini\, trolley e borse ingombranti.
URL:https://archeologicovenezia.cultura.gov.it/event/domenica-al-museo-ingresso-gratuito-la-prima-domenica-del-mese/
LOCATION:Museo Archeologico Nazionale di  Venezia\, Piazza San Marco 17\, Venezia Italia\, Italia
ATTACH;FMTTYPE=image/png:https://archeologicovenezia.cultura.gov.it/wp-content/uploads/2022/11/domenica-4-3-gratis.png
END:VEVENT
BEGIN:VEVENT
DTSTART;TZID=Europe/Rome:20221203T143000
DTEND;TZID=Europe/Rome:20221203T163000
DTSTAMP:20260423T173357
CREATED:20221130T171317Z
LAST-MODIFIED:20221130T171402Z
UID:4673-1670077800-1670085000@archeologicovenezia.cultura.gov.it
SUMMARY:Giornata internazionale dei diritti delle persone con disabilità- Percorsi tattili accessibili a tutti
DESCRIPTION:Sabato 3 dicembre\, ore 14.30 e 15.30\n\nIn occasione della Giornata Internazionale dei diritti delle persone con disabilità\, sabato 3 dicembre\, il Museo Archeologico Nazionale di Venezia offre a tutti la possibilità di sperimentare il nostro percorso tattile.\nI partecipanti toccheranno sei opere originali del museo\, guidati da una nostra operatrice formata al Museo Omero di Ancona.\nI partecipanti normovedenti verranno bendati.\nIngresso dal Museo Correr con biglietto “Musei di Piazza San Marco”\, gratuito per i residenti del comune di Venezia.\nPunto di incontro: sala 9 del Museo Archeologico.\nPrenotazione obbligatoria allo 0412967663.\nPosti limitati.
URL:https://archeologicovenezia.cultura.gov.it/event/giornata-internazionale-per-persone-con-disabilita-percorsi-tattili-accessibili-a-tutti/
LOCATION:Museo Archeologico Nazionale di  Venezia\, Piazza San Marco 17\, Venezia Italia\, Italia
ATTACH;FMTTYPE=image/jpeg:https://archeologicovenezia.cultura.gov.it/wp-content/uploads/2022/11/disabilita-3-12.jpg
END:VEVENT
BEGIN:VEVENT
DTSTART;TZID=Europe/Rome:20221201T100000
DTEND;TZID=Europe/Rome:20221201T170000
DTSTAMP:20260423T173357
CREATED:20221027T080042Z
LAST-MODIFIED:20221027T080139Z
UID:4618-1669888800-1669914000@archeologicovenezia.cultura.gov.it
SUMMARY:Musei in Festa 2022- Ingresso gratuito per i cittadini metropolitani
DESCRIPTION:Nelle Giornate dei Musei in Festa – 15 settembre\, 6 ottobre\, 23 ottobre\, 3 novembre\, 20 novembre\, 1 dicembre 2022 – tutti i residenti dei 44 comuni della Città Metropolitana di Venezia e di Mogliano Veneto troveranno aperte le porte dei Musei Civici di Venezia\, dei musei collegati e delle esposizioni temporanee comprese nel biglietto d’ingresso alle collezioni permanenti.\n\nI cittadini dei Comuni compresi potranno accedere gratuitamente a Palazzo Ducale e Museo Correr con il percorso integrato che comprende il Museo Archeologico Nazionale e le Sale Monumentali della Biblioteca Nazionale Marciana\, alla Galleria Internazionale d’Arte Moderna a Ca’ Pesaro con il percorso integrato con il Museo d’Arte Orientale di Venezia\, al Museo del Vetro di Murano\, al Museo di Storia Naturale di Venezia Giancarlo Ligabue\, al Museo di Palazzo Mocenigo\, al Museo di Palazzo Fortuny\, al Museo del Merletto di Burano e a Casa di Carlo Goldoni. Entrata gratuita anche al Centro Culturale Candiani di Mestre.\n\nI 44 Comuni Annone Veneto\, Campagna Lupia\, Campolongo Maggiore\, Camponogara\, Caorle\, Cavallino-Treporti\, Cavarzere\, Ceggia\, Chioggia\, Cinto Caomaggiore\, Cona\, Concordia Sagittaria\, Dolo\, Eraclea\, Fiesso d’Artico\, Fossalta di Piave\, Fossalta di Portogruaro\, Fossò\, Gruaro\, Jesolo\, Marcon\, Martellago\, Meolo\, Mira\, Mirano\, Musile di Piave\, Noale\, Noventa di Piave\, Pianiga\, Portogruaro\, Pramaggiore\, Quarto d’Altino\, Salzano\, San Donà di Piave\, San Michele al Tagliamento\, San Stino di Livenza\, Santa Maria di Sala\, Scorzè\, Spinea\, Stra\, Teglio Veneto\, Torre di Mosto\, Venezia\, Vigonovo. L’entrata gratuita è estesa anche ai residenti del Comune di Mogliano Veneto.\n\n\nIngresso dal Museo Correr. \n 
URL:https://archeologicovenezia.cultura.gov.it/event/musei-in-festa-2022-ingresso-gratuito-per-i-cittadini-metropolitani-2/
LOCATION:Museo Archeologico Nazionale di  Venezia\, Piazza San Marco 17\, Venezia Italia\, Italia
ATTACH;FMTTYPE=image/jpeg:https://archeologicovenezia.cultura.gov.it/wp-content/uploads/2022/10/Musei-in-festa-2022-FB-2.jpg
END:VEVENT
BEGIN:VEVENT
DTSTART;TZID=Europe/Rome:20221120T100000
DTEND;TZID=Europe/Rome:20221120T170000
DTSTAMP:20260423T173357
CREATED:20221027T075711Z
LAST-MODIFIED:20221027T075711Z
UID:4616-1668938400-1668963600@archeologicovenezia.cultura.gov.it
SUMMARY:Musei in Festa- Ingresso gratuito per i cittadini metropolitani
DESCRIPTION:Nelle Giornate dei Musei in Festa – 15 settembre\, 6 ottobre\, 23 ottobre\, 3 novembre\, 20 novembre\, 1 dicembre 2022 – tutti i residenti dei 44 comuni della Città Metropolitana di Venezia e di Mogliano Veneto troveranno aperte le porte dei Musei Civici di Venezia\, dei musei collegati e delle esposizioni temporanee comprese nel biglietto d’ingresso alle collezioni permanenti.\n\nI cittadini dei Comuni compresi potranno accedere gratuitamente a Palazzo Ducale e Museo Correr con il percorso integrato che comprende il Museo Archeologico Nazionale e le Sale Monumentali della Biblioteca Nazionale Marciana\, alla Galleria Internazionale d’Arte Moderna a Ca’ Pesaro con il percorso integrato con il Museo d’Arte Orientale di Venezia\, al Museo del Vetro di Murano\, al Museo di Storia Naturale di Venezia Giancarlo Ligabue\, al Museo di Palazzo Mocenigo\, al Museo di Palazzo Fortuny\, al Museo del Merletto di Burano e a Casa di Carlo Goldoni. Entrata gratuita anche al Centro Culturale Candiani di Mestre.\n\nI 44 Comuni Annone Veneto\, Campagna Lupia\, Campolongo Maggiore\, Camponogara\, Caorle\, Cavallino-Treporti\, Cavarzere\, Ceggia\, Chioggia\, Cinto Caomaggiore\, Cona\, Concordia Sagittaria\, Dolo\, Eraclea\, Fiesso d’Artico\, Fossalta di Piave\, Fossalta di Portogruaro\, Fossò\, Gruaro\, Jesolo\, Marcon\, Martellago\, Meolo\, Mira\, Mirano\, Musile di Piave\, Noale\, Noventa di Piave\, Pianiga\, Portogruaro\, Pramaggiore\, Quarto d’Altino\, Salzano\, San Donà di Piave\, San Michele al Tagliamento\, San Stino di Livenza\, Santa Maria di Sala\, Scorzè\, Spinea\, Stra\, Teglio Veneto\, Torre di Mosto\, Venezia\, Vigonovo. L’entrata gratuita è estesa anche ai residenti del Comune di Mogliano Veneto.\n\nIngresso dal Museo Correr. \nhttps://www.visitmuve.it/it/eventi/eventi-in-corso/2022/08/37783/musei-in-festa-2022/
URL:https://archeologicovenezia.cultura.gov.it/event/musei-in-festa-ingresso-gratuito-per-i-cittadini-metropolitani/
LOCATION:Museo Archeologico Nazionale di  Venezia\, Piazza San Marco 17\, Venezia Italia\, Italia
ATTACH;FMTTYPE=image/jpeg:https://archeologicovenezia.cultura.gov.it/wp-content/uploads/2022/10/Musei-in-festa-2022-FB-2.jpg
END:VEVENT
BEGIN:VEVENT
DTSTART;TZID=Europe/Rome:20221111T103000
DTEND;TZID=Europe/Rome:20221111T113000
DTSTAMP:20260423T173358
CREATED:20221024T064655Z
LAST-MODIFIED:20221024T064703Z
UID:4575-1668162600-1668166200@archeologicovenezia.cultura.gov.it
SUMMARY:Kid Pass- Avventura tra le pagine- Laboratorio per bambini
DESCRIPTION:La scrittrice per bambini Stella Nosella svolgerà un laboratorio gratuito intitolato “Scolpire come Canova!” in cui i ragazzi potranno sperimentare con la plastilina le tecniche utilizzate dallo scultore Antonio Canova per la realizzazione dei suoi bozzetti preparatori. \nAl termine del laboratorio\, Stella Nosella leggerà alcuni brani del suo libro “In corso d’opera“\, edito da L’orto della cultura\, incentrato sulla figura del grande scultore Antonio Canova. \nLaboratorio e ingresso al museo gratuiti previa prenotazione alla mail drm-ven.archeologico@cultura.gov.it\nIndicato per bambini tra gli 8 e i 10 anni.\nMassimo 20-25 partecipanti. \n 
URL:https://archeologicovenezia.cultura.gov.it/event/kid-pass-avventura-tra-le-pagine-laboratorio-per-bambini/
LOCATION:Museo Archeologico Nazionale di  Venezia\, Piazza San Marco 17\, Venezia Italia\, Italia
ATTACH;FMTTYPE=image/jpeg:https://archeologicovenezia.cultura.gov.it/wp-content/uploads/2022/10/13-14-scaled.jpg
ORGANIZER;CN="Museo%20Archeologico%20Nazionale%20di%20%20Venezia":MAILTO:info.archeologicovenezia@cultura.gov.it
END:VEVENT
BEGIN:VEVENT
DTSTART;TZID=Europe/Rome:20221106T100000
DTEND;TZID=Europe/Rome:20221106T170000
DTSTAMP:20260423T173358
CREATED:20221102T142606Z
LAST-MODIFIED:20221102T142606Z
UID:4633-1667728800-1667754000@archeologicovenezia.cultura.gov.it
SUMMARY:Domenica al Museo- Ingresso gratuito
DESCRIPTION:Domenica 6 novembre 2022\, in occasione della prima domenica del mese\, sarà possibile visitare gratuitamente il Museo Archeologico Nazionale di Venezia e le Sale Monumentali della Biblioteca Nazionale Marciana. L‘ingresso sarà dallo scalone d’oro della Biblioteca Marciana (Piazzetta San Marco 13/a). Orario: 10.00 – 17.00\, ultimo ingresso alle ore 16.00. \nRicordiamo che il Museo Correr  non partecipa a questa iniziativa ministeriale essendo un museo civico\, non statale. \nI visitatori in possesso del biglietto a pagamento “Musei di piazza San Marco” sono invitati ad entrare dal Museo Correr. \nAll’interno delle Sale Monuemtnali della Biblioteca Marciana sarà possibile visitare  la mostra personale intitolata Avatar\, opere scultoree di Wurm\,  poste in dialogo con dipinti a parete e a soffitto di Tiziano\, Tintoretto e Veronese. \nE’ a disposizione per tutti i visitatori l’audioguida gratuita del Museo Archeologico Nazionale di Venezia\, consultabile con il proprio smartphone al link: \nhttps://izi.travel/it/6ec5-museo-archeologico-nazionale-di-venezia/it \nE’ vivamente consigliato l’uso di mascherine FFP2.\n \nSi precisa che\, per motivi di sicurezza\, non saranno ammessi visitatori con zaini\, trolley e borse ingombranti. \n  \n 
URL:https://archeologicovenezia.cultura.gov.it/event/domenica-al-museo-ingresso-gratuito/
LOCATION:Museo Archeologico Nazionale di  Venezia\, Piazza San Marco 17\, Venezia Italia\, Italia
ATTACH;FMTTYPE=image/png:https://archeologicovenezia.cultura.gov.it/wp-content/uploads/2022/11/DomenicheMuseo_6nov_Card.png
END:VEVENT
BEGIN:VEVENT
DTSTART;TZID=Europe/Rome:20221103T100000
DTEND;TZID=Europe/Rome:20221103T170000
DTSTAMP:20260423T173358
CREATED:20221025T121635Z
LAST-MODIFIED:20221025T121733Z
UID:4601-1667469600-1667494800@archeologicovenezia.cultura.gov.it
SUMMARY:Musei in Festa 2022-Ingresso gratuito per i cittadini metropolitani
DESCRIPTION:Nelle Giornate dei Musei in Festa – 15 settembre\, 6 ottobre\, 23 ottobre\, 3 novembre\, 20 novembre\, 1 dicembre 2022 – tutti i residenti dei 44 comuni della Città Metropolitana di Venezia e di Mogliano Veneto troveranno aperte le porte dei Musei Civici di Venezia\, dei musei collegati e delle esposizioni temporanee comprese nel biglietto d’ingresso alle collezioni permanenti. \nI cittadini dei Comuni compresi potranno accedere gratuitamente a Palazzo Ducale e Museo Correr con il percorso integrato che comprende il Museo Archeologico Nazionale e le Sale Monumentali della Biblioteca Nazionale Marciana\, alla Galleria Internazionale d’Arte Moderna a Ca’ Pesaro con il percorso integrato con il Museo d’Arte Orientale di Venezia\, al Museo del Vetro di Murano\, al Museo di Storia Naturale di Venezia Giancarlo Ligabue\, al Museo di Palazzo Mocenigo\, al Museo di Palazzo Fortuny\, al Museo del Merletto di Burano e a Casa di Carlo Goldoni. Entrata gratuita anche al Centro Culturale Candiani di Mestre. \n  \nI 44 Comuni Annone Veneto\, Campagna Lupia\, Campolongo Maggiore\, Camponogara\, Caorle\, Cavallino-Treporti\, Cavarzere\, Ceggia\, Chioggia\, Cinto Caomaggiore\, Cona\, Concordia Sagittaria\, Dolo\, Eraclea\, Fiesso d’Artico\, Fossalta di Piave\, Fossalta di Portogruaro\, Fossò\, Gruaro\, Jesolo\, Marcon\, Martellago\, Meolo\, Mira\, Mirano\, Musile di Piave\, Noale\, Noventa di Piave\, Pianiga\, Portogruaro\, Pramaggiore\, Quarto d’Altino\, Salzano\, San Donà di Piave\, San Michele al Tagliamento\, San Stino di Livenza\, Santa Maria di Sala\, Scorzè\, Spinea\, Stra\, Teglio Veneto\, Torre di Mosto\, Venezia\, Vigonovo. L’entrata gratuita è estesa anche ai residenti del Comune di Mogliano Veneto. \n 
URL:https://archeologicovenezia.cultura.gov.it/event/musei-in-festa-2022-ingresso-gratuito-per-i-cittadini-metropolitani/
LOCATION:Museo Archeologico Nazionale di  Venezia\, Piazza San Marco 17\, Venezia Italia\, Italia
ATTACH;FMTTYPE=image/jpeg:https://archeologicovenezia.cultura.gov.it/wp-content/uploads/2022/10/Musei-in-festa-2022-FB-2.jpg
END:VEVENT
BEGIN:VEVENT
DTSTART;TZID=Europe/Rome:20221009T160000
DTEND;TZID=Europe/Rome:20221009T170000
DTSTAMP:20260423T173358
CREATED:20221002T074904Z
LAST-MODIFIED:20221002T074904Z
UID:4545-1665331200-1665334800@archeologicovenezia.cultura.gov.it
SUMMARY:F@mu- Giornata delle Famiglie al Museo
DESCRIPTION:Laboratorio didattico per famiglie con bambini tra gli 8 e i 10 anni. \nVi piacciono i miti greci? Qual è il vostro preferito? Venite a passeggiare nelle nostre sale guidati dalle leggende di eroi e dèi\, scegliete il vostro mito del cuore e fatevi immortalare in una foto ricordo. \nIngresso e partecipazione gratuita previa prenotazione telefonica allo 041 2967663. Posti limitati. \nAccesso da Piazzetta San Marco 17. \nA cura di Margherita Fuga \n#famigliealmuseo #famu #mitologia #archeologia \n 
URL:https://archeologicovenezia.cultura.gov.it/event/fmu-giornata-delle-famiglie-al-museo/
LOCATION:Museo Archeologico Nazionale di  Venezia\, Piazza San Marco 17\, Venezia Italia\, Italia
ATTACH;FMTTYPE=image/jpeg:https://archeologicovenezia.cultura.gov.it/wp-content/uploads/2022/10/laboratorio-bambini-2022-1.jpg
ORGANIZER;CN="Museo%20Archeologico%20Nazionale%20di%20%20Venezia":MAILTO:info.archeologicovenezia@cultura.gov.it
END:VEVENT
BEGIN:VEVENT
DTSTART;TZID=Europe/Rome:20221002T100000
DTEND;TZID=Europe/Rome:20221002T180000
DTSTAMP:20260423T173358
CREATED:20221002T080047Z
LAST-MODIFIED:20221002T080047Z
UID:4552-1664704800-1664733600@archeologicovenezia.cultura.gov.it
SUMMARY:#Domenicalmuseo
DESCRIPTION:Ingresso gratuito a tutti i musei statali la prima domenica del mese. \nAccesso da Piazzetta San Marco 17\, senza obbligo di prenotazione. \nVisite guidate gratuite a cura di Margherita Fuga alle ore 10.30 e 11.30. \nOrario: 10-18 (ultimo accesso ore 17)
URL:https://archeologicovenezia.cultura.gov.it/event/domenicalmuseo/
LOCATION:Museo Archeologico Nazionale di  Venezia\, Piazza San Marco 17\, Venezia Italia\, Italia
ATTACH;FMTTYPE=image/jpeg:https://archeologicovenezia.cultura.gov.it/wp-content/uploads/2022/10/My-project-11.jpg
ORGANIZER;CN="Museo%20Archeologico%20Nazionale%20di%20%20Venezia":MAILTO:info.archeologicovenezia@cultura.gov.it
END:VEVENT
END:VCALENDAR