BEGIN:VCALENDAR
VERSION:2.0
PRODID:-//Museo Archeologico Nazionale di Venezia - ECPv6.0.6.2//NONSGML v1.0//EN
CALSCALE:GREGORIAN
METHOD:PUBLISH
X-ORIGINAL-URL:https://archeologicovenezia.cultura.gov.it
X-WR-CALDESC:Events for Museo Archeologico Nazionale di Venezia
REFRESH-INTERVAL;VALUE=DURATION:PT1H
X-Robots-Tag:noindex
X-PUBLISHED-TTL:PT1H
BEGIN:VTIMEZONE
TZID:Europe/Rome
BEGIN:DAYLIGHT
TZOFFSETFROM:+0100
TZOFFSETTO:+0200
TZNAME:CEST
DTSTART:20240331T010000
END:DAYLIGHT
BEGIN:STANDARD
TZOFFSETFROM:+0200
TZOFFSETTO:+0100
TZNAME:CET
DTSTART:20241027T010000
END:STANDARD
END:VTIMEZONE
BEGIN:VEVENT
DTSTART;TZID=Europe/Rome:20241208T100000
DTEND;TZID=Europe/Rome:20241208T140000
DTSTAMP:20260423T153158
CREATED:20241206T180133Z
LAST-MODIFIED:20241206T180133Z
UID:5564-1733652000-1733666400@archeologicovenezia.cultura.gov.it
SUMMARY:FESTA DELL'IMMACOLATA
DESCRIPTION:Nella giornata dell’8 dicembre il Museo archeologico nazionale di Venezia aprirà al pubblico con il seguente orario: ore 10-14. \nSi avvisa che l’ultimo accesso avverrà alle ore 13.30. \nIngresso\, come di consueto\, dal Museo Correr. \n 
URL:https://archeologicovenezia.cultura.gov.it/event/festa-dellimmacolata/
LOCATION:Museo Archeologico Nazionale di  Venezia\, Piazza San Marco 17\, Venezia Italia\, Italia
END:VEVENT
END:VCALENDAR