BEGIN:VCALENDAR
VERSION:2.0
PRODID:-//Museo Archeologico Nazionale di Venezia - ECPv6.0.6.2//NONSGML v1.0//EN
CALSCALE:GREGORIAN
METHOD:PUBLISH
X-WR-CALNAME:Museo Archeologico Nazionale di Venezia
X-ORIGINAL-URL:https://archeologicovenezia.cultura.gov.it
X-WR-CALDESC:Events for Museo Archeologico Nazionale di Venezia
REFRESH-INTERVAL;VALUE=DURATION:PT1H
X-Robots-Tag:noindex
X-PUBLISHED-TTL:PT1H
BEGIN:VTIMEZONE
TZID:Europe/Rome
BEGIN:DAYLIGHT
TZOFFSETFROM:+0100
TZOFFSETTO:+0200
TZNAME:CEST
DTSTART:20240331T010000
END:DAYLIGHT
BEGIN:STANDARD
TZOFFSETFROM:+0200
TZOFFSETTO:+0100
TZNAME:CET
DTSTART:20241027T010000
END:STANDARD
END:VTIMEZONE
BEGIN:VEVENT
DTSTART;TZID=Europe/Rome:20241203T103000
DTEND;TZID=Europe/Rome:20241203T131000
DTSTAMP:20260425T142857
CREATED:20241129T173725Z
LAST-MODIFIED:20241129T173725Z
UID:5556-1733221800-1733231400@archeologicovenezia.cultura.gov.it
SUMMARY:Appuntamenti al buio- Giornata internazionale delle persone con disabilità
DESCRIPTION:𝟑 𝐝𝐢𝐜𝐞𝐦𝐛𝐫𝐞 𝟐𝟎𝟐𝟒\n\nIn occasione della 𝐆𝐢𝐨𝐫𝐧𝐚𝐭𝐚 𝐢𝐧𝐭𝐞𝐫𝐧𝐚𝐳𝐢𝐨𝐧𝐚𝐥𝐞 𝐝𝐞𝐥𝐥𝐞 𝐩𝐞𝐫𝐬𝐨𝐧𝐞 𝐜𝐨𝐧 𝐝𝐢𝐬𝐚𝐛𝐢𝐥𝐢𝐭𝐚̀\, il Museo archeologico di Venezia offrirà a tutti i visitatori\, in un’ottica di sensibilizzazione\, dei percorsi tattili gratuiti previo acquisto del biglietto di ingresso (gratuito per persone con disabilità e un accompagnatore e per residenti del comune di Venezia).\nGli unici sensi consentiti saranno il tatto e l’udito.\n\n Visite alle ore 10.30\, 11.30\, 12.30.\nOgni visita durerà circa 40 minuti.\n\nIngresso dal Museo Correr.\nPunto di ritrovo: sala 9 del Museo archeologico.\n\nI partecipanti sono invitati a portare con sé una sciarpa.\nPosti limitati. Prenotazione obbligatoria al numero 041 2997602.
URL:https://archeologicovenezia.cultura.gov.it/event/appuntamenti-al-buio-giornata-internazionale-delle-persone-con-disabilita/
LOCATION:Museo Archeologico Nazionale di  Venezia\, Piazza San Marco 17\, Venezia Italia\, Italia
ATTACH;FMTTYPE=image/png:https://archeologicovenezia.cultura.gov.it/wp-content/uploads/2024/11/Senza-titolo.png
END:VEVENT
END:VCALENDAR