BEGIN:VCALENDAR
VERSION:2.0
PRODID:-//Museo Archeologico Nazionale di Venezia - ECPv6.0.6.2//NONSGML v1.0//EN
CALSCALE:GREGORIAN
METHOD:PUBLISH
X-ORIGINAL-URL:https://archeologicovenezia.cultura.gov.it
X-WR-CALDESC:Events for Museo Archeologico Nazionale di Venezia
REFRESH-INTERVAL;VALUE=DURATION:PT1H
X-Robots-Tag:noindex
X-PUBLISHED-TTL:PT1H
BEGIN:VTIMEZONE
TZID:Europe/Rome
BEGIN:DAYLIGHT
TZOFFSETFROM:+0100
TZOFFSETTO:+0200
TZNAME:CEST
DTSTART:20240331T010000
END:DAYLIGHT
BEGIN:STANDARD
TZOFFSETFROM:+0200
TZOFFSETTO:+0100
TZNAME:CET
DTSTART:20241027T010000
END:STANDARD
END:VTIMEZONE
BEGIN:VEVENT
DTSTART;TZID=Europe/Rome:20241115T103000
DTEND;TZID=Europe/Rome:20241115T120000
DTSTAMP:20260421T181513
CREATED:20241028T081117Z
LAST-MODIFIED:20241028T081117Z
UID:5497-1731666600-1731672000@archeologicovenezia.cultura.gov.it
SUMMARY:Kid Pass- Avventure tra le pagine- Archeoquiz a premi
DESCRIPTION:In occasione dell’evento KID PASS “Avventure tra le pagine” il Museo Archeologico Nazionale di Venezia ospiterà venerdì 15 novembre alle ore 10.30 un archeoquiz a premi realizzato dalla scrittrice per ragazzi Stella Nosella.\n \nLa partecipazione è rivolta a classi di terza\, quarta e quinta elementare.\nL’evento\, della durata di un’ora\, è gratuito per tutti i partecipanti e i docenti accompagnatori.\nCosa fa un archeologo? Perché è importante la Stele di Rosetta? L’archeoquiz sarà intervallato da letture di brani tratti da “Sebastian’s chronicles: lo scrigno d’avorio”\, libro per ragazzi ambientato anche nel museo archeologico di Venezia.\nI ragazzi saranno invitati a rispondere a domande a risposta multipla dedicate alla storia. Ad ogni risposta corretta verrà corrisposto un piccolo gadget.\n\nÈ necessaria la prenotazione al numero 041 2997602. Posti limitati.\n\nL’acquisto del romanzo per ragazzi “Sebastian’s chronicles: lo scrigno d’avorio” non è obbligatorio.\n\nStella Nosella è autrice poliedrica\, cinque volte candidata al Premio Strega con i libri della saga “Sebastian’s chronicles”\, “La bambina dal nastro rosso” e la serie “In corso d’opera”. Inoltre\, è direttrice artistica di PortoImmaginario Festival\, testimonial di #ilvenetolegge e #ioleggoperché e caporedattrice della rivista trimestrale Kid Pass Magazine.\n\n#avventuretralepagine #kidpass2024 #archeoquiz #stellanosella #museoarcheologicovenezia
URL:https://archeologicovenezia.cultura.gov.it/event/kid-pass-avventure-tra-le-pagine-archeoquiz-a-premi/
LOCATION:Museo Archeologico Nazionale di  Venezia\, Piazza San Marco 17\, Venezia Italia\, Italia
CATEGORIES:Laboratorio didattico
ATTACH;FMTTYPE=image/jpeg:https://archeologicovenezia.cultura.gov.it/wp-content/uploads/2024/10/kid-pass-kit-grafico.jpg
END:VEVENT
END:VCALENDAR