BEGIN:VCALENDAR
VERSION:2.0
PRODID:-//Museo Archeologico Nazionale di Venezia - ECPv6.0.6.2//NONSGML v1.0//EN
CALSCALE:GREGORIAN
METHOD:PUBLISH
X-WR-CALNAME:Museo Archeologico Nazionale di Venezia
X-ORIGINAL-URL:https://archeologicovenezia.cultura.gov.it
X-WR-CALDESC:Events for Museo Archeologico Nazionale di Venezia
REFRESH-INTERVAL;VALUE=DURATION:PT1H
X-Robots-Tag:noindex
X-PUBLISHED-TTL:PT1H
BEGIN:VTIMEZONE
TZID:Europe/Rome
BEGIN:DAYLIGHT
TZOFFSETFROM:+0100
TZOFFSETTO:+0200
TZNAME:CEST
DTSTART:20240331T010000
END:DAYLIGHT
BEGIN:STANDARD
TZOFFSETFROM:+0200
TZOFFSETTO:+0100
TZNAME:CET
DTSTART:20241027T010000
END:STANDARD
END:VTIMEZONE
BEGIN:VEVENT
DTSTART;TZID=Europe/Rome:20241103T100000
DTEND;TZID=Europe/Rome:20241103T170000
DTSTAMP:20260419T195940
CREATED:20241030T175807Z
LAST-MODIFIED:20241030T175807Z
UID:5501-1730628000-1730653200@archeologicovenezia.cultura.gov.it
SUMMARY:Domenica al museo- Ingresso gratuito
DESCRIPTION:Torna #DomenicalMuseo\, iniziativa del Ministero della Cultura che prevede l’accesso gratuito ogni prima domenica del mese a monumenti\, musei\, gallerie\, scavi archeologici\, parchi e giardini monumentali dello Stato. \nDomenica 3 novembre 2024\, tutti potranno accedere gratuitamente al Museo Archeologico Nazionale e alle Sale Monumentali della Biblioteca Nazionale Marciana (orario: 10.00 – 17.00\, ultimo ingresso alle ore 16.00). Vi ricordiamo che l’accesso al museo è consentito fino a un’ora prima dell’orario di chiusura e le operazioni di deflusso del pubblico iniziano 30 minuti prima della chiusura. \nSarà l’occasione anche per visitare la mostra “Deep” di Erwin Wurm – evento espositivo in contemporanea con la 60º Mostra Internazionale d’Arte – La Biennale di Venezia\, e la mostra “Rappresentare il mondo ai tempi di Marco Polo. Tesori cartografici dal Vaticano a confronto con Fra’ Mauro”\, curata da Stefano Campagnolo e Andrea Nanetti. \nNon è prevista la prenotazione. \nIl pubblico che desidera visitare soltanto queste due sedi\, pertanto\, potrà accedervi dall’ingresso storico della Biblioteca Nazionale Marciana (Libreria Sansoviniana: Piazzetta San Marco n. 13/a).\nIl museo Correr NON aderisce all’iniziativa e rimane a pagamento. \nSi precisa che\, per motivi di sicurezza\, non saranno ammessi visitatori con zaini\, trolley e borse ingombranti\, poiché la Biblioteca Nazionale Marciana nelle Sue Sale Monumentali non è dotata di ambienti atti a guardaroba e deposito bagagli\, si invitano i visitatori a depositare i propri zaini o bagagli in altro luogo esterno alla Biblioteca\, in vista della visita. I visitatori potranno scegliere di depositarli all’ingresso\, spazio non custodito e dunque sollevando da ogni responsabilità il personale delle sale. Saranno ammessi solo zaini e borse di piccole dimensioni.
URL:https://archeologicovenezia.cultura.gov.it/event/domenica-al-museo-ingresso-gratuito-13/
LOCATION:Museo Archeologico Nazionale di  Venezia\, Piazza San Marco 17\, Venezia Italia\, Italia
ATTACH;FMTTYPE=image/png:https://archeologicovenezia.cultura.gov.it/wp-content/uploads/2024/10/domenica-3-novembre-card.png
END:VEVENT
END:VCALENDAR