BEGIN:VCALENDAR
VERSION:2.0
PRODID:-//Museo Archeologico Nazionale di Venezia - ECPv6.0.6.2//NONSGML v1.0//EN
CALSCALE:GREGORIAN
METHOD:PUBLISH
X-WR-CALNAME:Museo Archeologico Nazionale di Venezia
X-ORIGINAL-URL:https://archeologicovenezia.cultura.gov.it
X-WR-CALDESC:Events for Museo Archeologico Nazionale di Venezia
REFRESH-INTERVAL;VALUE=DURATION:PT1H
X-Robots-Tag:noindex
X-PUBLISHED-TTL:PT1H
BEGIN:VTIMEZONE
TZID:Europe/Rome
BEGIN:DAYLIGHT
TZOFFSETFROM:+0100
TZOFFSETTO:+0200
TZNAME:CEST
DTSTART:20240331T010000
END:DAYLIGHT
BEGIN:STANDARD
TZOFFSETFROM:+0200
TZOFFSETTO:+0100
TZNAME:CET
DTSTART:20241027T010000
END:STANDARD
END:VTIMEZONE
BEGIN:VEVENT
DTSTART;TZID=Europe/Rome:20240928T143000
DTEND;TZID=Europe/Rome:20240928T173000
DTSTAMP:20260419T193259
CREATED:20240919T070746Z
LAST-MODIFIED:20240919T070746Z
UID:5433-1727533800-1727544600@archeologicovenezia.cultura.gov.it
SUMMARY:Giornate Europee del Patrimonio 2024- Speciali tour guidati gratuiti
DESCRIPTION:Il Museo archeologico nazionale di Venezia aderisce alle Giornate Europee del Patrimonio 2024. \nLe Giornate Europee del Patrimonio (European Heritage Days) costituiscono il più partecipato degli eventi culturali in Europa\, promosso dal 1991 dal Consiglio d’Europa e dalla Commissione Europea. Lo scopo della manifestazione è far apprezzare e conoscere a tutti i cittadini il patrimonio culturale condiviso e incoraggiare la partecipazione attiva per la sua salvaguardia e trasmissione alle nuove generazioni. \nIl tema italiano delle GEP 2024 “Patrimonio in cammino” riprende  lo slogan europeo “Routes\, Networks and Connections”\, scelto dal Consiglio d’Europa e condiviso dai Paesi aderenti alla manifestazione. È un invito a riflettere sul valore del patrimonio culturale in relazione a cammini\, vie di comunicazione\, connessioni e reti che\, oggi o in passato\, hanno reso possibili relazioni e scambi fra i popoli e le culture e contribuito alla formazione della nostra identità. \nPer questa occasione\, lo staff del Museo archeologico nazionale di Venezia ha il piacere di offrirVi delle visite guidate gratuite\, previo acquisto del biglietto di ingresso “Musei di Piazza San Marco”\, gratuito per i residenti del comune di Venezia. \nSabato 28 settembre ore 14.30\, 15.30\, 16.30 \nTra iconografia classica e restauri rinascimentali: le collezioni del Museo archeologico nazionale di Venezia \na cura di Enrico Brutti\, Patricia Caprino e Federica Pasini\nUn percorso itinerante vi porterà alla scoperta delle opere identitarie della nostra collezione. \nMassimo 20 persone a gruppo \nPrenotazione obbligatoria allo 041 2997602 \nIngresso dal Museo Correr con biglietto “Musei di Piazza San Marco” \n#GEP2024  #EuropeanHeritageDays #MiC #museitaliani #EHDays #GiornateEuropeeDelPatrimonio #Patrimonioincammino
URL:https://archeologicovenezia.cultura.gov.it/event/giornate-europee-del-patrimonio-2024-speciali-tour-guidati-gratuiti/
LOCATION:Museo Archeologico Nazionale di  Venezia\, Piazza San Marco 17\, Venezia Italia\, Italia
CATEGORIES:Visita guidata
ATTACH;FMTTYPE=image/png:https://archeologicovenezia.cultura.gov.it/wp-content/uploads/2024/09/GEP-2024-card.png
END:VEVENT
END:VCALENDAR