BEGIN:VCALENDAR
VERSION:2.0
PRODID:-//Museo Archeologico Nazionale di Venezia - ECPv6.0.6.2//NONSGML v1.0//EN
CALSCALE:GREGORIAN
METHOD:PUBLISH
X-WR-CALNAME:Museo Archeologico Nazionale di Venezia
X-ORIGINAL-URL:https://archeologicovenezia.cultura.gov.it
X-WR-CALDESC:Events for Museo Archeologico Nazionale di Venezia
REFRESH-INTERVAL;VALUE=DURATION:PT1H
X-Robots-Tag:noindex
X-PUBLISHED-TTL:PT1H
BEGIN:VTIMEZONE
TZID:Europe/Rome
BEGIN:DAYLIGHT
TZOFFSETFROM:+0100
TZOFFSETTO:+0200
TZNAME:CEST
DTSTART:20220327T010000
END:DAYLIGHT
BEGIN:STANDARD
TZOFFSETFROM:+0200
TZOFFSETTO:+0100
TZNAME:CET
DTSTART:20221030T010000
END:STANDARD
END:VTIMEZONE
BEGIN:VEVENT
DTSTART;TZID=Europe/Rome:20221120T100000
DTEND;TZID=Europe/Rome:20221120T170000
DTSTAMP:20260419T192951
CREATED:20221027T075711Z
LAST-MODIFIED:20221027T075711Z
UID:4616-1668938400-1668963600@archeologicovenezia.cultura.gov.it
SUMMARY:Musei in Festa- Ingresso gratuito per i cittadini metropolitani
DESCRIPTION:Nelle Giornate dei Musei in Festa – 15 settembre\, 6 ottobre\, 23 ottobre\, 3 novembre\, 20 novembre\, 1 dicembre 2022 – tutti i residenti dei 44 comuni della Città Metropolitana di Venezia e di Mogliano Veneto troveranno aperte le porte dei Musei Civici di Venezia\, dei musei collegati e delle esposizioni temporanee comprese nel biglietto d’ingresso alle collezioni permanenti.\n\nI cittadini dei Comuni compresi potranno accedere gratuitamente a Palazzo Ducale e Museo Correr con il percorso integrato che comprende il Museo Archeologico Nazionale e le Sale Monumentali della Biblioteca Nazionale Marciana\, alla Galleria Internazionale d’Arte Moderna a Ca’ Pesaro con il percorso integrato con il Museo d’Arte Orientale di Venezia\, al Museo del Vetro di Murano\, al Museo di Storia Naturale di Venezia Giancarlo Ligabue\, al Museo di Palazzo Mocenigo\, al Museo di Palazzo Fortuny\, al Museo del Merletto di Burano e a Casa di Carlo Goldoni. Entrata gratuita anche al Centro Culturale Candiani di Mestre.\n\nI 44 Comuni Annone Veneto\, Campagna Lupia\, Campolongo Maggiore\, Camponogara\, Caorle\, Cavallino-Treporti\, Cavarzere\, Ceggia\, Chioggia\, Cinto Caomaggiore\, Cona\, Concordia Sagittaria\, Dolo\, Eraclea\, Fiesso d’Artico\, Fossalta di Piave\, Fossalta di Portogruaro\, Fossò\, Gruaro\, Jesolo\, Marcon\, Martellago\, Meolo\, Mira\, Mirano\, Musile di Piave\, Noale\, Noventa di Piave\, Pianiga\, Portogruaro\, Pramaggiore\, Quarto d’Altino\, Salzano\, San Donà di Piave\, San Michele al Tagliamento\, San Stino di Livenza\, Santa Maria di Sala\, Scorzè\, Spinea\, Stra\, Teglio Veneto\, Torre di Mosto\, Venezia\, Vigonovo. L’entrata gratuita è estesa anche ai residenti del Comune di Mogliano Veneto.\n\nIngresso dal Museo Correr. \nhttps://www.visitmuve.it/it/eventi/eventi-in-corso/2022/08/37783/musei-in-festa-2022/
URL:https://archeologicovenezia.cultura.gov.it/event/musei-in-festa-ingresso-gratuito-per-i-cittadini-metropolitani/
LOCATION:Museo Archeologico Nazionale di  Venezia\, Piazza San Marco 17\, Venezia Italia\, Italia
ATTACH;FMTTYPE=image/jpeg:https://archeologicovenezia.cultura.gov.it/wp-content/uploads/2022/10/Musei-in-festa-2022-FB-2.jpg
END:VEVENT
END:VCALENDAR