BEGIN:VCALENDAR
VERSION:2.0
PRODID:-//Museo Archeologico Nazionale di Venezia - ECPv6.0.6.2//NONSGML v1.0//EN
CALSCALE:GREGORIAN
METHOD:PUBLISH
X-WR-CALNAME:Museo Archeologico Nazionale di Venezia
X-ORIGINAL-URL:https://archeologicovenezia.cultura.gov.it
X-WR-CALDESC:Events for Museo Archeologico Nazionale di Venezia
REFRESH-INTERVAL;VALUE=DURATION:PT1H
X-Robots-Tag:noindex
X-PUBLISHED-TTL:PT1H
BEGIN:VTIMEZONE
TZID:Europe/Rome
BEGIN:DAYLIGHT
TZOFFSETFROM:+0100
TZOFFSETTO:+0200
TZNAME:CEST
DTSTART:20220327T010000
END:DAYLIGHT
BEGIN:STANDARD
TZOFFSETFROM:+0200
TZOFFSETTO:+0100
TZNAME:CET
DTSTART:20221030T010000
END:STANDARD
END:VTIMEZONE
BEGIN:VEVENT
DTSTART;TZID=Europe/Rome:20221111T103000
DTEND;TZID=Europe/Rome:20221111T113000
DTSTAMP:20260419T193259
CREATED:20221024T064655Z
LAST-MODIFIED:20221024T064703Z
UID:4575-1668162600-1668166200@archeologicovenezia.cultura.gov.it
SUMMARY:Kid Pass- Avventura tra le pagine- Laboratorio per bambini
DESCRIPTION:La scrittrice per bambini Stella Nosella svolgerà un laboratorio gratuito intitolato “Scolpire come Canova!” in cui i ragazzi potranno sperimentare con la plastilina le tecniche utilizzate dallo scultore Antonio Canova per la realizzazione dei suoi bozzetti preparatori. \nAl termine del laboratorio\, Stella Nosella leggerà alcuni brani del suo libro “In corso d’opera“\, edito da L’orto della cultura\, incentrato sulla figura del grande scultore Antonio Canova. \nLaboratorio e ingresso al museo gratuiti previa prenotazione alla mail drm-ven.archeologico@cultura.gov.it\nIndicato per bambini tra gli 8 e i 10 anni.\nMassimo 20-25 partecipanti. \n 
URL:https://archeologicovenezia.cultura.gov.it/event/kid-pass-avventura-tra-le-pagine-laboratorio-per-bambini/
LOCATION:Museo Archeologico Nazionale di  Venezia\, Piazza San Marco 17\, Venezia Italia\, Italia
ATTACH;FMTTYPE=image/jpeg:https://archeologicovenezia.cultura.gov.it/wp-content/uploads/2022/10/13-14-scaled.jpg
ORGANIZER;CN="Museo%20Archeologico%20Nazionale%20di%20%20Venezia":MAILTO:info.archeologicovenezia@cultura.gov.it
END:VEVENT
END:VCALENDAR